BEGIN:VCALENDAR
VERSION:2.0
PRODID:Festival Folclore
X-WR-CALNAME:Festival Folclore
X-WR-TIMEZONE:Europe/Lisbon
X-PUBLISHED-TTL:P1W
BEGIN:VTIMEZONE
TZID:Europe/Lisbon
X-LIC-LOCATION:Europe/Lisbon
END:VTIMEZONE
BEGIN:VEVENT
UID:69e55aa515a19
DTSTART;VALUE=DATE:20240713
SEQUENCE:0
TRANSP:OPAQUE
DTEND;VALUE=DATE:20240714
SUMMARY:Festival Folclore
CLASS:PUBLIC
DESCRIPTION:FESTIVAL FOLCLORE - Rancho Folclórico de Santiago de Carapeço
 s 
X-MICROSOFT-CDO-ALLDAYEVENT:TRUE
DTSTAMP:20260419T224349Z
END:VEVENT
END:VCALENDAR