BEGIN:VCALENDAR
VERSION:2.0
PRODID:Passeio da Freguesia 2024
X-WR-CALNAME:Passeio da Freguesia 2024
X-WR-TIMEZONE:Europe/Lisbon
X-PUBLISHED-TTL:P1W
BEGIN:VTIMEZONE
TZID:Europe/Lisbon
X-LIC-LOCATION:Europe/Lisbon
END:VTIMEZONE
BEGIN:VEVENT
UID:69e5d1407ed0b
DTSTART;VALUE=DATE:20240712
SEQUENCE:0
TRANSP:OPAQUE
DTEND;VALUE=DATE:20240713
SUMMARY:Passeio da Freguesia 2024
CLASS:PUBLIC
DESCRIPTION:Participe do Passeio/convívio da Freguesia no dia 12 de julho 
 de 2024!Hora: 8h30 Saída de Carapeços\, 19h00 chegada a CarapeçosVenha 
 se juntar a nós para um dia repleto de convívio\, partilha e alegria! 
X-MICROSOFT-CDO-ALLDAYEVENT:TRUE
DTSTAMP:20260420T070952Z
END:VEVENT
END:VCALENDAR