BEGIN:VCALENDAR
VERSION:2.0
PRODID:Dia da Freguesia 
X-WR-CALNAME:Dia da Freguesia 
X-WR-TIMEZONE:Europe/Lisbon
X-PUBLISHED-TTL:P1W
BEGIN:VTIMEZONE
TZID:Europe/Lisbon
X-LIC-LOCATION:Europe/Lisbon
END:VTIMEZONE
BEGIN:VEVENT
UID:69e5d4b0f3475
DTSTART;VALUE=DATE:20240811
SEQUENCE:0
TRANSP:OPAQUE
DTEND;VALUE=DATE:20240812
SUMMARY:Dia da Freguesia 
CLASS:PUBLIC
DESCRIPTION:Dia 11 de Agosto no Parque de Merendas da Coutada venha festeja
 r conosco o Dia da Freguesia.
X-MICROSOFT-CDO-ALLDAYEVENT:TRUE
DTSTAMP:20260420T072432Z
END:VEVENT
END:VCALENDAR